BEGIN:VCALENDAR
VERSION:2.0
PRODID:-//Kadco Off Road Townsville QLD - ECPv4.8.1//NONSGML v1.0//EN
CALSCALE:GREGORIAN
METHOD:PUBLISH
X-WR-CALNAME:Kadco Off Road Townsville QLD
X-ORIGINAL-URL:http://townsville.campertrailer.com.au
X-WR-CALDESC:Events for Kadco Off Road Townsville QLD
BEGIN:VEVENT
DTSTART;VALUE=DATE:20170310
DTEND;VALUE=DATE:20170312
DTSTAMP:20190301T011023
CREATED:20160914T043439Z
LAST-MODIFIED:20160914T043439Z
UID:9847-1489104000-1489276799@townsville.campertrailer.com.au
SUMMARY:Wagin Woolorama
DESCRIPTION:WA’s largest regional agricultural show \nOver 350 commercial exhibitors; over 1000 sheep\, cattle\, horses and chooks in competition; working sheep dogs; hourly fashion parades; art\, photography and crafts in competition; education options; side shows; free entertainment; lifestyle displays; woolhandling and shearing competitions; markets; current and future rural industry products and services; travel products; smoke free environment; indoor and outdoor displays; 20\,000 visitors; massive local community effort; family friendly; \nTHE PLACE TO BE! \n
URL:http://townsville.campertrailer.com.au/event/wagin-woolorama/
CATEGORIES:Camping, Outdoor & Holiday Shows
ORGANIZER;CN="Johnnos%20Perth":MAILTO:perthnorth@townsville.campertrailer.com.au
END:VEVENT
END:VCALENDAR