BEGIN:VCALENDAR
VERSION:2.0
PRODID:-//Kadco Off Road Townsville QLD - ECPv4.8.1//NONSGML v1.0//EN
CALSCALE:GREGORIAN
METHOD:PUBLISH
X-WR-CALNAME:Kadco Off Road Townsville QLD
X-ORIGINAL-URL:http://townsville.campertrailer.com.au
X-WR-CALDESC:Events for Kadco Off Road Townsville QLD
BEGIN:VEVENT
DTSTART;VALUE=DATE:20161021
DTEND;VALUE=DATE:20161024
DTSTAMP:20190301T010743
CREATED:20160910T043603Z
LAST-MODIFIED:20160910T043603Z
UID:11410-1477008000-1477267199@townsville.campertrailer.com.au
SUMMARY:Sunshine Coast Caravan\, Camping and Boating Expo
DESCRIPTION:This event is a major shopping event for the Sunshine Coast and surrounding districts and continues to grow each year. It will host an extensive range of quality home and lifestyle products including building\, renovating\, green living\, home improvements\, homewares\, kitchenware\, electrical\, pools\, spas\, finance\, gardening and loads more. \nThe Caravan\, Camping and Boating Expo will be a very popular part of this event with the largest range of retailers\, manufacturers\, designers and builders of leisure vehicles on site. Before making a decision on buying or updating your camper trailers\, caravans or motorhomes\, this event is a must see! \n
URL:http://townsville.campertrailer.com.au/event/sunshine-coast-caravan-camping-boating-expo/
LOCATION:Kawana Sports Precinct\, 320 Nicklin Way\, Bokarina\, QLD\, 4575\, Australia
CATEGORIES:Camping, Outdoor & Holiday Shows
ORGANIZER;CN="Johnno%27s%20Caboolture%20%2F%20Bribie%20Island":MAILTO:bribieisland@townsville.campertrailer.com.au
END:VEVENT
END:VCALENDAR