BEGIN:VCALENDAR
VERSION:2.0
PRODID:-//Kadco Off Road Townsville QLD - ECPv4.8.1//NONSGML v1.0//EN
CALSCALE:GREGORIAN
METHOD:PUBLISH
X-WR-CALNAME:Kadco Off Road Townsville QLD
X-ORIGINAL-URL:http://townsville.campertrailer.com.au
X-WR-CALDESC:Events for Kadco Off Road Townsville QLD
BEGIN:VEVENT
DTSTART;VALUE=DATE:20170421
DTEND;VALUE=DATE:20170424
DTSTAMP:20190301T004330
CREATED:20160910T045114Z
LAST-MODIFIED:20160910T045114Z
UID:9829-1492732800-1492991999@townsville.campertrailer.com.au
SUMMARY:South Qld Caravan\, Camping and Fishing Show
DESCRIPTION:The 2017 South Queensland Caravan\, Camping\, Boating and Fishing Expo is one of the region’s largest events\, showcasing the latest in caravans\, camper trailers\, motorhomes\, boating\, vehicles camping gear and outdoor accessories. With over 130 local and regional exhibitors all in the one place displaying the latest products and services. \nThis massive event all takes place at the Nambour Showgrounds on the 21st to 23rd of April 2017. \n
URL:http://townsville.campertrailer.com.au/event/south-qld-caravan-camping-fishing-show/
CATEGORIES:Camping, Outdoor & Holiday Shows
ORGANIZER;CN="Johnno%27s%20Caboolture%20%2F%20Bribie%20Island":MAILTO:bribieisland@townsville.campertrailer.com.au
END:VEVENT
END:VCALENDAR