BEGIN:VCALENDAR
VERSION:2.0
PRODID:-//Kadco Off Road Townsville QLD - ECPv4.8.1//NONSGML v1.0//EN
CALSCALE:GREGORIAN
METHOD:PUBLISH
X-WR-CALNAME:Kadco Off Road Townsville QLD
X-ORIGINAL-URL:http://townsville.campertrailer.com.au
X-WR-CALDESC:Events for Kadco Off Road Townsville QLD
BEGIN:VEVENT
DTSTART;VALUE=DATE:20170915
DTEND;VALUE=DATE:20170918
DTSTAMP:20190301T005249
CREATED:20150323T020330Z
LAST-MODIFIED:20170409T005610Z
UID:8057-1505433600-1505692799@townsville.campertrailer.com.au
SUMMARY:Orana Caravan\, Camping\, 4WD\, Fish & Boat Show
DESCRIPTION:The Orana Caravan\, Camping\, 4WD\, Fish & Boat Show is a unique event for the Dubbo Region.  Held at Dubbo Showgrounds\, the show offers visitors and locals an opportunity to see a huge display of various caravanning\, camping and fishing \nThe Dubbo 4WD Club provide great entertainment each year on the 4WD demonstration track.  Other attractions include the Australian Travelling Fish Show\, the Reptile Awareness Display and bike shows by Flair Action Sports Promotions. \n
URL:http://townsville.campertrailer.com.au/event/orana-caravan-camping-4wd-fish-boat-show/
LOCATION:Dubbo Showgrounds\, Cnr Fitzroy & Wingewarra Street\, Dubbo\, NSW\, 2830\, Australia
CATEGORIES:Camping, Outdoor & Holiday Shows
END:VEVENT
END:VCALENDAR