BEGIN:VCALENDAR
VERSION:2.0
PRODID:-//Kadco Off Road Townsville QLD - ECPv4.8.1//NONSGML v1.0//EN
CALSCALE:GREGORIAN
METHOD:PUBLISH
X-WR-CALNAME:Kadco Off Road Townsville QLD
X-ORIGINAL-URL:http://townsville.campertrailer.com.au
X-WR-CALDESC:Events for Kadco Off Road Townsville QLD
BEGIN:VEVENT
DTSTART;VALUE=DATE:20171005
DTEND;VALUE=DATE:20171009
DTSTAMP:20190301T005319
CREATED:20151006T003426Z
LAST-MODIFIED:20170501T013116Z
UID:8716-1507161600-1507507199@townsville.campertrailer.com.au
SUMMARY:Melbourne Leisurefest 2017
DESCRIPTION:In an age where leisure and lifestyle have taken on a new meaning\, the Caravan industry Association of Victoria are proud to once again conduct the Melbourne Leisurefest to showcase the very best in caravans\, recreational vehicles\, 4×4 vehicles and accessories and lifestyle and outdoor camping accessories.\nMelbourne Leisurefest 2017 will showcase more caravans\, pop-tops\, tents\, camper trailers\, motorhomes\, campervans and 4×4 off road and touring accessories than ever. \nMany of these products will be on display for the first time\, meaning visitors to Melbourne Leisurefest will experience them before anybody else! Plus there will be plenty of tourism information available from all over Australia so you can plan your next great adventure. \n
URL:http://townsville.campertrailer.com.au/event/melbourne-leisurefest/
LOCATION:Sandown Racecourse\, 591-659 Princes Highway\, Springvale\, Victoria\, 3171\, Australia
CATEGORIES:Camping, Outdoor & Holiday Shows
ORGANIZER;CN="Melbourne%20Camper%20Trailer%20Centre":MAILTO:sales@melbournecampertrailers.com
END:VEVENT
END:VCALENDAR