BEGIN:VCALENDAR
VERSION:2.0
PRODID:-//Kadco Off Road Townsville QLD - ECPv4.8.1//NONSGML v1.0//EN
CALSCALE:GREGORIAN
METHOD:PUBLISH
X-WR-CALNAME:Kadco Off Road Townsville QLD
X-ORIGINAL-URL:http://townsville.campertrailer.com.au
X-WR-CALDESC:Events for Kadco Off Road Townsville QLD
BEGIN:VEVENT
DTSTART;VALUE=DATE:20170526
DTEND;VALUE=DATE:20170529
DTSTAMP:20190301T004941
CREATED:20151124T055657Z
LAST-MODIFIED:20170409T005434Z
UID:8894-1495756800-1496015999@townsville.campertrailer.com.au
SUMMARY:Hunter Valley Caravan\, Camping\, 4WD\, Fish & Boat Show
DESCRIPTION:The biggest show on the Rural Scene calendar is the Hunter Valley Caravan\, Camping\, 4WD\, Fish & Boat Show held in May each year at the Maitland showgrounds. The Hunter Valley Show has lead the way for Rural Scene’s Caravan\, Camping\, 4WD\, Fish & Boat shows\, being the first of its kind presented by the company for the first time in 1997. \nWith over 300 sites and going into its 22nd year\, the Hunter Valley Show is a fantastic event for both exhibitors and visitors. \n
URL:http://townsville.campertrailer.com.au/event/hunter-valley-caravan-camping-4wd-fish-boat-show/
LOCATION:Maitland Showgrounds\, Blomfield Street\, South Maitland\, NSW\, 2320\, Australia
CATEGORIES:Camping, Outdoor & Holiday Shows
ORGANIZER;CN="Newcastle%20Camper%20Trailers":MAILTO:newcastle@townsville.campertrailer.com.au
END:VEVENT
END:VCALENDAR