BEGIN:VCALENDAR
VERSION:2.0
PRODID:-//Kadco Off Road Townsville QLD - ECPv4.8.1//NONSGML v1.0//EN
CALSCALE:GREGORIAN
METHOD:PUBLISH
X-WR-CALNAME:Kadco Off Road Townsville QLD
X-ORIGINAL-URL:http://townsville.campertrailer.com.au
X-WR-CALDESC:Events for Kadco Off Road Townsville QLD
BEGIN:VEVENT
DTSTART;VALUE=DATE:20160920
DTEND;VALUE=DATE:20160923
DTSTAMP:20190301T010504
CREATED:20151207T121334Z
LAST-MODIFIED:20151207T121334Z
UID:8640-1474329600-1474588799@townsville.campertrailer.com.au
SUMMARY:Henty Field Days
DESCRIPTION:Australia’s agribusiness shopfront \nWelcome to Henty Machinery Field Days\, home of Australia’s premier mixed farming event. \nLocated in the heart of the nation’s food bowl in southern NSW\, Henty Machinery Field Days is an agribusiness supermarket attracting more than 60\,000 visitors each year. \nHenty Machinery Field Days is now regarded as southern Australia’s single biggest agricultural event\, showcasing the latest in machinery and farm equipment\, outdoors and camping products\, farm produce\, agronomy\, country lifestyle\, government and health services\, agribusiness and finance services. \nThe not-for-profit event is farmer driven and run by a board of agriculturalists from southern NSW\, supported by 80-plus members of the field days co-operative. \nHenty Machinery Field Days celebrated 50 years in 2013 after being founded as a one-day header school at the Henty showground in 1963. \nThe 2016 Henty Machinery Field Days on September 20-22 will feature more than 1200 sites and over 800 exhibitors on the permanent 105ha site. \n
URL:http://townsville.campertrailer.com.au/event/henty-field-days/
LOCATION:Henty Field Days\, Cookardinia Road\, Henty\, New South Wales\, 2658\, Australia
CATEGORIES:Camping, Outdoor & Holiday Shows
ORGANIZER;CN="Albury%2FWodonga%20Camper%20Trailer%20Sales%20and%20Hire":MAILTO:albury@townsville.campertrailer.com.au
END:VEVENT
END:VCALENDAR