BEGIN:VCALENDAR
VERSION:2.0
PRODID:-//Kadco Off Road Townsville QLD - ECPv4.8.1//NONSGML v1.0//EN
CALSCALE:GREGORIAN
METHOD:PUBLISH
X-WR-CALNAME:Kadco Off Road Townsville QLD
X-ORIGINAL-URL:http://townsville.campertrailer.com.au
X-WR-CALDESC:Events for Kadco Off Road Townsville QLD
BEGIN:VEVENT
DTSTART;VALUE=DATE:20161111
DTEND;VALUE=DATE:20161114
DTSTAMP:20190301T010838
CREATED:20160912T233937Z
LAST-MODIFIED:20160912T233937Z
UID:8084-1478822400-1479081599@townsville.campertrailer.com.au
SUMMARY:Perth 4wd Show
DESCRIPTION:A world class 4WD & Adventure Show showcasing the best that WA has to offer with non-stop entertainment\, attractions\, and a diversity of information\, demonstrations and activities on all things 4WD & adventure. \nCATERING\nThe Show will have a number of food vans offering a range of food to suit all tastes including sandwiches and rolls\, chips and burgers\, coffee and refreshments. \nFACILITIES\nThere will be ample toilet facilities set up for the Show\, including disabled access facilities. \nLOST CHILDREN/PROPERTY\nLost children and property must be brought to the show office. In the event of a lost child or property an announcement will be put out over the PA and the child/property will await collection by their guardians from the show office. No individual announcements will be made. \nDOGS\nPlease note that dogs are not allowed on site with the exception of assistance dogs. \nSPECIAL GUESTS\nThere are some lucky people who make a living out of getting out there and experiencing the great outdoors. And you can hear from some of them at the Show. \nThe Outback Wrangler! \nMeet one of the most extreme adventurers in Australia! Matt Wright\, from National Geographic’s Outback Wrangler\, has been referred to as the Australian version of Bear Grylls! Matt is a Darwin-based adventurer who spends his days hunting crocs\, flying helicopters and fishing in some of the most remote areas in northern Australia. \nMore special guests! \nPat Callinan ventures to places you can only access with a 4WD and takes a camera crew with him to produce his program 4X4 Adventures and magazine. 4×4 Adventures is a family oriented touring show interested in eco-sensible travel. Inspiring\, informative and beautifully filmed and edited. Catch up with Pat and have a chat about his latest travels! \nJohn Rooth\, or “Roothy”\, is the most recognised face of 4WDing in Australia. With almost a million kilometres under his belt\, Roothy has driven to the far reaches of the country. From south-west WA to Tasmania; Roothy’s seen it all – along with his beloved iconic 45 Series LandCruiser “Milo”. Catch up with Roothy at the Show this year on the Engel Bush Camp Stage. \nJason Andrews is one-half of the dynamic duo of modern-day adventurers who take on rugged expeditions into some of the remotest corners and wildest frontiers of Australia in their TV show All 4 Adventure. Using 4WDs\, ATVs and boats\, the boys venture deep into uncharted areas and face all sorts of logistical challenges\, relying on their ingenuity\, experience and a good measure of humour to reach their destination. \nEmma George is a former Olympic athlete and now a mother of three young boys. Also a freelance journalist\, she is passionate about children participating in healthy\, active and fun activities. Emma has become a role model and an inspiration for many families to get outdoors and has stories and advice to share. \nErnie Dingo is one of Australia’s best known and loved TV personalities. He always has a story to share\, and loves to have a chat. So make sure you come down to the Engel Bush Camp stage and see Ernie all weekend at the Show. \nCome and have a chat and hear some awesome stories from people who are living the dream! \n
URL:http://townsville.campertrailer.com.au/event/2015-perth-4wd-show/
LOCATION:McCallum Park\, Taylor St\, Victoria Park\, WA\, 6100\, Australia
CATEGORIES:Camping, Outdoor & Holiday Shows
ORGANIZER;CN="Johnnos%20Perth":MAILTO:perthnorth@townsville.campertrailer.com.au
END:VEVENT
END:VCALENDAR